BEGIN:VCALENDAR
VERSION:2.0
PRODID:-//Lühlerheim - ECPv6.15.18//NONSGML v1.0//EN
CALSCALE:GREGORIAN
METHOD:PUBLISH
X-WR-CALNAME:Lühlerheim
X-ORIGINAL-URL:https://luehlerheim.de
X-WR-CALDESC:Veranstaltungen für Lühlerheim
REFRESH-INTERVAL;VALUE=DURATION:PT1H
X-Robots-Tag:noindex
X-PUBLISHED-TTL:PT1H
BEGIN:VTIMEZONE
TZID:Europe/Berlin
BEGIN:DAYLIGHT
TZOFFSETFROM:+0100
TZOFFSETTO:+0200
TZNAME:CEST
DTSTART:20250330T010000
END:DAYLIGHT
BEGIN:STANDARD
TZOFFSETFROM:+0200
TZOFFSETTO:+0100
TZNAME:CET
DTSTART:20251026T010000
END:STANDARD
BEGIN:DAYLIGHT
TZOFFSETFROM:+0100
TZOFFSETTO:+0200
TZNAME:CEST
DTSTART:20260329T010000
END:DAYLIGHT
BEGIN:STANDARD
TZOFFSETFROM:+0200
TZOFFSETTO:+0100
TZNAME:CET
DTSTART:20261025T010000
END:STANDARD
BEGIN:DAYLIGHT
TZOFFSETFROM:+0100
TZOFFSETTO:+0200
TZNAME:CEST
DTSTART:20270328T010000
END:DAYLIGHT
BEGIN:STANDARD
TZOFFSETFROM:+0200
TZOFFSETTO:+0100
TZNAME:CET
DTSTART:20271031T010000
END:STANDARD
END:VTIMEZONE
BEGIN:VEVENT
DTSTART;TZID=Europe/Berlin:20260901T100000
DTEND;TZID=Europe/Berlin:20260901T100000
DTSTAMP:20260420T190451
CREATED:20250213T121928Z
LAST-MODIFIED:20260401T055516Z
UID:1785-1788256800-1788256800@luehlerheim.de
SUMMARY:Andachten im Bossow-Haus
DESCRIPTION:
URL:https://luehlerheim.de/veranstaltung/andachten-im-bossow-haus-25/
LOCATION:Evangelische Stiftung Lühlerheim\, Marienthaler Str. 10\, Schermbeck\, NW\, 46514\, Germany
CATEGORIES:Bossow-Haus
END:VEVENT
BEGIN:VEVENT
DTSTART;TZID=Europe/Berlin:20260901T160000
DTEND;TZID=Europe/Berlin:20260901T173000
DTSTAMP:20260420T190451
CREATED:20250213T135917Z
LAST-MODIFIED:20260401T062512Z
UID:1909-1788278400-1788283800@luehlerheim.de
SUMMARY:Boule am Café Lühlerheide
DESCRIPTION:
URL:https://luehlerheim.de/veranstaltung/boule-am-cafe-luehlerheide-23/
LOCATION:NW
CATEGORIES:Café
END:VEVENT
BEGIN:VEVENT
DTSTART;TZID=Europe/Berlin:20260905T181500
DTEND;TZID=Europe/Berlin:20260905T181500
DTSTAMP:20260420T190451
CREATED:20250213T120343Z
LAST-MODIFIED:20260401T061347Z
UID:1719-1788632100-1788632100@luehlerheim.de
SUMMARY:Gottesdienste in der Kapelle
DESCRIPTION:
URL:https://luehlerheim.de/veranstaltung/gottesdienste-in-der-kapelle-13/
LOCATION:Evangelische Stiftung Lühlerheim\, Marienthaler Str. 10\, Schermbeck\, NW\, 46514\, Germany
CATEGORIES:Kapelle
END:VEVENT
BEGIN:VEVENT
DTSTART;TZID=Europe/Berlin:20260908T100000
DTEND;TZID=Europe/Berlin:20260908T100000
DTSTAMP:20260420T190451
CREATED:20250213T121944Z
LAST-MODIFIED:20260401T055523Z
UID:1793-1788861600-1788861600@luehlerheim.de
SUMMARY:Andachten im Bossow-Haus
DESCRIPTION:
URL:https://luehlerheim.de/veranstaltung/andachten-im-bossow-haus-26/
LOCATION:Evangelische Stiftung Lühlerheim\, Marienthaler Str. 10\, Schermbeck\, NW\, 46514\, Germany
CATEGORIES:Bossow-Haus
END:VEVENT
BEGIN:VEVENT
DTSTART;TZID=Europe/Berlin:20260908T140000
DTEND;TZID=Europe/Berlin:20260908T160000
DTSTAMP:20260420T190451
CREATED:20250213T131212Z
LAST-MODIFIED:20260401T061917Z
UID:1835-1788876000-1788883200@luehlerheim.de
SUMMARY:Gesprächsrunde Freizeithaus
DESCRIPTION:
URL:https://luehlerheim.de/veranstaltung/gespraechsrunde-freizeithaus-13/
LOCATION:Evangelische Stiftung Lühlerheim\, Marienthaler Str. 10\, Schermbeck\, NW\, 46514\, Germany
CATEGORIES:Freizeithaus
END:VEVENT
BEGIN:VEVENT
DTSTART;TZID=Europe/Berlin:20260908T160000
DTEND;TZID=Europe/Berlin:20260908T173000
DTSTAMP:20260420T190451
CREATED:20250213T135921Z
LAST-MODIFIED:20260401T062517Z
UID:1908-1788883200-1788888600@luehlerheim.de
SUMMARY:Boule am Café Lühlerheide
DESCRIPTION:
URL:https://luehlerheim.de/veranstaltung/boule-am-cafe-luehlerheide-24/
LOCATION:NW
CATEGORIES:Café
END:VEVENT
BEGIN:VEVENT
DTSTART;TZID=Europe/Berlin:20260915T100000
DTEND;TZID=Europe/Berlin:20260915T100000
DTSTAMP:20260420T190451
CREATED:20250213T121948Z
LAST-MODIFIED:20260401T055530Z
UID:1792-1789466400-1789466400@luehlerheim.de
SUMMARY:Andachten im Bossow-Haus
DESCRIPTION:
URL:https://luehlerheim.de/veranstaltung/andachten-im-bossow-haus-27/
LOCATION:Evangelische Stiftung Lühlerheim\, Marienthaler Str. 10\, Schermbeck\, NW\, 46514\, Germany
CATEGORIES:Bossow-Haus
END:VEVENT
BEGIN:VEVENT
DTSTART;TZID=Europe/Berlin:20260915T160000
DTEND;TZID=Europe/Berlin:20260915T173000
DTSTAMP:20260420T190451
CREATED:20250213T135926Z
LAST-MODIFIED:20260401T062522Z
UID:1907-1789488000-1789493400@luehlerheim.de
SUMMARY:Boule am Café Lühlerheide
DESCRIPTION:
URL:https://luehlerheim.de/veranstaltung/boule-am-cafe-luehlerheide-25/
LOCATION:NW
CATEGORIES:Café
END:VEVENT
BEGIN:VEVENT
DTSTART;TZID=Europe/Berlin:20260919T160000
DTEND;TZID=Europe/Berlin:20260919T160000
DTSTAMP:20260420T190451
CREATED:20250213T085319Z
LAST-MODIFIED:20260401T063156Z
UID:1615-1789833600-1789833600@luehlerheim.de
SUMMARY:Ökumenischer Gottesdienst „für alle Sinne“ in der Kapelle Lühlerheim
DESCRIPTION:(für demente Bewohner und deren Angehörige)
URL:https://luehlerheim.de/veranstaltung/oekumenischer-gottesdienst-fuer-alle-sinne-in-der-kapelle-luehlerheim-3/
LOCATION:Evangelische Stiftung Lühlerheim\, Marienthaler Str. 10\, Schermbeck\, NW\, 46514\, Germany
CATEGORIES:Kapelle
END:VEVENT
BEGIN:VEVENT
DTSTART;TZID=Europe/Berlin:20260919T181500
DTEND;TZID=Europe/Berlin:20260919T181500
DTSTAMP:20260420T190451
CREATED:20250213T120350Z
LAST-MODIFIED:20260401T061352Z
UID:1721-1789841700-1789841700@luehlerheim.de
SUMMARY:Gottesdienste in der Kapelle
DESCRIPTION:
URL:https://luehlerheim.de/veranstaltung/gottesdienste-in-der-kapelle-14/
LOCATION:Evangelische Stiftung Lühlerheim\, Marienthaler Str. 10\, Schermbeck\, NW\, 46514\, Germany
CATEGORIES:Kapelle
END:VEVENT
BEGIN:VEVENT
DTSTART;TZID=Europe/Berlin:20260922T100000
DTEND;TZID=Europe/Berlin:20260922T100000
DTSTAMP:20260420T190451
CREATED:20250213T121957Z
LAST-MODIFIED:20260401T055537Z
UID:1791-1790071200-1790071200@luehlerheim.de
SUMMARY:Andachten im Bossow-Haus
DESCRIPTION:
URL:https://luehlerheim.de/veranstaltung/andachten-im-bossow-haus-28/
LOCATION:Evangelische Stiftung Lühlerheim\, Marienthaler Str. 10\, Schermbeck\, NW\, 46514\, Germany
CATEGORIES:Bossow-Haus
END:VEVENT
BEGIN:VEVENT
DTSTART;TZID=Europe/Berlin:20260922T140000
DTEND;TZID=Europe/Berlin:20260922T160000
DTSTAMP:20260420T190451
CREATED:20250213T131224Z
LAST-MODIFIED:20260401T061925Z
UID:1836-1790085600-1790092800@luehlerheim.de
SUMMARY:Gesprächsrunde Freizeithaus
DESCRIPTION:
URL:https://luehlerheim.de/veranstaltung/gespraechsrunde-freizeithaus-14/
LOCATION:Evangelische Stiftung Lühlerheim\, Marienthaler Str. 10\, Schermbeck\, NW\, 46514\, Germany
CATEGORIES:Freizeithaus
END:VEVENT
BEGIN:VEVENT
DTSTART;TZID=Europe/Berlin:20260922T160000
DTEND;TZID=Europe/Berlin:20260922T173000
DTSTAMP:20260420T190451
CREATED:20250213T135930Z
LAST-MODIFIED:20260401T062528Z
UID:1906-1790092800-1790098200@luehlerheim.de
SUMMARY:Boule am Café Lühlerheide
DESCRIPTION:
URL:https://luehlerheim.de/veranstaltung/boule-am-cafe-luehlerheide-26/
LOCATION:NW
CATEGORIES:Café
END:VEVENT
BEGIN:VEVENT
DTSTART;TZID=Europe/Berlin:20260929T160000
DTEND;TZID=Europe/Berlin:20260929T173000
DTSTAMP:20260420T190451
CREATED:20250213T135936Z
LAST-MODIFIED:20260401T062541Z
UID:1915-1790697600-1790703000@luehlerheim.de
SUMMARY:Boule am Café Lühlerheide
DESCRIPTION:
URL:https://luehlerheim.de/veranstaltung/boule-am-cafe-luehlerheide-27/
LOCATION:NW
CATEGORIES:Café
END:VEVENT
END:VCALENDAR