BEGIN:VCALENDAR
VERSION:2.0
PRODID:-//Lühlerheim - ECPv6.15.18//NONSGML v1.0//EN
CALSCALE:GREGORIAN
METHOD:PUBLISH
X-ORIGINAL-URL:https://luehlerheim.de
X-WR-CALDESC:Veranstaltungen für Lühlerheim
REFRESH-INTERVAL;VALUE=DURATION:PT1H
X-Robots-Tag:noindex
X-PUBLISHED-TTL:PT1H
BEGIN:VTIMEZONE
TZID:Europe/Berlin
BEGIN:DAYLIGHT
TZOFFSETFROM:+0100
TZOFFSETTO:+0200
TZNAME:CEST
DTSTART:20250330T010000
END:DAYLIGHT
BEGIN:STANDARD
TZOFFSETFROM:+0200
TZOFFSETTO:+0100
TZNAME:CET
DTSTART:20251026T010000
END:STANDARD
BEGIN:DAYLIGHT
TZOFFSETFROM:+0100
TZOFFSETTO:+0200
TZNAME:CEST
DTSTART:20260329T010000
END:DAYLIGHT
BEGIN:STANDARD
TZOFFSETFROM:+0200
TZOFFSETTO:+0100
TZNAME:CET
DTSTART:20261025T010000
END:STANDARD
BEGIN:DAYLIGHT
TZOFFSETFROM:+0100
TZOFFSETTO:+0200
TZNAME:CEST
DTSTART:20270328T010000
END:DAYLIGHT
BEGIN:STANDARD
TZOFFSETFROM:+0200
TZOFFSETTO:+0100
TZNAME:CET
DTSTART:20271031T010000
END:STANDARD
END:VTIMEZONE
BEGIN:VEVENT
DTSTART;TZID=Europe/Berlin:20260801T181500
DTEND;TZID=Europe/Berlin:20260801T181500
DTSTAMP:20260420T173316
CREATED:20250213T120327Z
LAST-MODIFIED:20260401T061324Z
UID:1717-1785608100-1785608100@luehlerheim.de
SUMMARY:Gottesdienste in der Kapelle
DESCRIPTION:
URL:https://luehlerheim.de/veranstaltung/gottesdienste-in-der-kapelle-11/
LOCATION:Evangelische Stiftung Lühlerheim\, Marienthaler Str. 10\, Schermbeck\, NW\, 46514\, Germany
CATEGORIES:Kapelle
END:VEVENT
BEGIN:VEVENT
DTSTART;TZID=Europe/Berlin:20260804T100000
DTEND;TZID=Europe/Berlin:20260804T100000
DTSTAMP:20260420T173316
CREATED:20250213T121813Z
LAST-MODIFIED:20260401T055440Z
UID:1771-1785837600-1785837600@luehlerheim.de
SUMMARY:Andachten im Bossow-Haus
DESCRIPTION:
URL:https://luehlerheim.de/veranstaltung/andachten-im-bossow-haus-21/
LOCATION:Evangelische Stiftung Lühlerheim\, Marienthaler Str. 10\, Schermbeck\, NW\, 46514\, Germany
CATEGORIES:Bossow-Haus
END:VEVENT
BEGIN:VEVENT
DTSTART;TZID=Europe/Berlin:20260804T160000
DTEND;TZID=Europe/Berlin:20260804T173000
DTSTAMP:20260420T173316
CREATED:20250213T135859Z
LAST-MODIFIED:20260401T062450Z
UID:1901-1785859200-1785864600@luehlerheim.de
SUMMARY:Boule am Café Lühlerheide
DESCRIPTION:
URL:https://luehlerheim.de/veranstaltung/boule-am-cafe-luehlerheide-19/
LOCATION:NW
CATEGORIES:Café
END:VEVENT
BEGIN:VEVENT
DTSTART;TZID=Europe/Berlin:20260811T100000
DTEND;TZID=Europe/Berlin:20260811T100000
DTSTAMP:20260420T173316
CREATED:20250213T121818Z
LAST-MODIFIED:20260401T055445Z
UID:1772-1786442400-1786442400@luehlerheim.de
SUMMARY:Andachten im Bossow-Haus
DESCRIPTION:
URL:https://luehlerheim.de/veranstaltung/andachten-im-bossow-haus-22/
LOCATION:Evangelische Stiftung Lühlerheim\, Marienthaler Str. 10\, Schermbeck\, NW\, 46514\, Germany
CATEGORIES:Bossow-Haus
END:VEVENT
BEGIN:VEVENT
DTSTART;TZID=Europe/Berlin:20260811T140000
DTEND;TZID=Europe/Berlin:20260811T160000
DTSTAMP:20260420T173316
CREATED:20250213T131154Z
LAST-MODIFIED:20260401T061900Z
UID:1833-1786456800-1786464000@luehlerheim.de
SUMMARY:Gesprächsrunde Freizeithaus
DESCRIPTION:
URL:https://luehlerheim.de/veranstaltung/gespraechsrunde-freizeithaus-11/
LOCATION:Evangelische Stiftung Lühlerheim\, Marienthaler Str. 10\, Schermbeck\, NW\, 46514\, Germany
CATEGORIES:Freizeithaus
END:VEVENT
BEGIN:VEVENT
DTSTART;TZID=Europe/Berlin:20260811T160000
DTEND;TZID=Europe/Berlin:20260811T173000
DTSTAMP:20260420T173316
CREATED:20250213T135903Z
LAST-MODIFIED:20260401T062455Z
UID:1903-1786464000-1786469400@luehlerheim.de
SUMMARY:Boule am Café Lühlerheide
DESCRIPTION:
URL:https://luehlerheim.de/veranstaltung/boule-am-cafe-luehlerheide-20/
LOCATION:NW
CATEGORIES:Café
END:VEVENT
BEGIN:VEVENT
DTSTART;TZID=Europe/Berlin:20260815T160000
DTEND;TZID=Europe/Berlin:20260815T160000
DTSTAMP:20260420T173316
CREATED:20250213T085255Z
LAST-MODIFIED:20260401T063134Z
UID:1613-1786809600-1786809600@luehlerheim.de
SUMMARY:Ökumenischer Gottesdienst „für alle Sinne“ in der Kapelle Lühlerheim
DESCRIPTION:(für demente Bewohner und deren Angehörige)
URL:https://luehlerheim.de/veranstaltung/oekumenischer-gottesdienst-fuer-alle-sinne-in-der-kapelle-luehlerheim-2/
LOCATION:Evangelische Stiftung Lühlerheim\, Marienthaler Str. 10\, Schermbeck\, NW\, 46514\, Germany
CATEGORIES:Lühlerheim
END:VEVENT
BEGIN:VEVENT
DTSTART;TZID=Europe/Berlin:20260815T181500
DTEND;TZID=Europe/Berlin:20260815T181500
DTSTAMP:20260420T173316
CREATED:20250213T120334Z
LAST-MODIFIED:20260401T061334Z
UID:1718-1786817700-1786817700@luehlerheim.de
SUMMARY:Gottesdienste in der Kapelle
DESCRIPTION:
URL:https://luehlerheim.de/veranstaltung/gottesdienste-in-der-kapelle-12/
LOCATION:Evangelische Stiftung Lühlerheim\, Marienthaler Str. 10\, Schermbeck\, NW\, 46514\, Germany
CATEGORIES:Kapelle
END:VEVENT
BEGIN:VEVENT
DTSTART;TZID=Europe/Berlin:20260818T100000
DTEND;TZID=Europe/Berlin:20260818T100000
DTSTAMP:20260420T173316
CREATED:20250213T121823Z
LAST-MODIFIED:20260401T055456Z
UID:1773-1787047200-1787047200@luehlerheim.de
SUMMARY:Andachten im Bossow-Haus
DESCRIPTION:
URL:https://luehlerheim.de/veranstaltung/andachten-im-bossow-haus-23/
LOCATION:Evangelische Stiftung Lühlerheim\, Marienthaler Str. 10\, Schermbeck\, NW\, 46514\, Germany
CATEGORIES:Bossow-Haus
END:VEVENT
BEGIN:VEVENT
DTSTART;TZID=Europe/Berlin:20260818T160000
DTEND;TZID=Europe/Berlin:20260818T173000
DTSTAMP:20260420T173316
CREATED:20250213T135907Z
LAST-MODIFIED:20260401T062500Z
UID:1905-1787068800-1787074200@luehlerheim.de
SUMMARY:Boule am Café Lühlerheide
DESCRIPTION:
URL:https://luehlerheim.de/veranstaltung/boule-am-cafe-luehlerheide-21/
LOCATION:NW
CATEGORIES:Café
END:VEVENT
BEGIN:VEVENT
DTSTART;TZID=Europe/Berlin:20260825T100000
DTEND;TZID=Europe/Berlin:20260825T100000
DTSTAMP:20260420T173316
CREATED:20250213T121915Z
LAST-MODIFIED:20260401T055509Z
UID:1784-1787652000-1787652000@luehlerheim.de
SUMMARY:Andachten im Bossow-Haus
DESCRIPTION:
URL:https://luehlerheim.de/veranstaltung/andachten-im-bossow-haus-24/
LOCATION:Evangelische Stiftung Lühlerheim\, Marienthaler Str. 10\, Schermbeck\, NW\, 46514\, Germany
CATEGORIES:Bossow-Haus
END:VEVENT
BEGIN:VEVENT
DTSTART;TZID=Europe/Berlin:20260825T140000
DTEND;TZID=Europe/Berlin:20260825T160000
DTSTAMP:20260420T173316
CREATED:20250213T131201Z
LAST-MODIFIED:20260401T061910Z
UID:1834-1787666400-1787673600@luehlerheim.de
SUMMARY:Gesprächsrunde Freizeithaus
DESCRIPTION:
URL:https://luehlerheim.de/veranstaltung/gespraechsrunde-freizeithaus-12/
LOCATION:Evangelische Stiftung Lühlerheim\, Marienthaler Str. 10\, Schermbeck\, NW\, 46514\, Germany
CATEGORIES:Freizeithaus
END:VEVENT
BEGIN:VEVENT
DTSTART;TZID=Europe/Berlin:20260825T160000
DTEND;TZID=Europe/Berlin:20260825T173000
DTSTAMP:20260420T173316
CREATED:20250213T135911Z
LAST-MODIFIED:20260401T062507Z
UID:1904-1787673600-1787679000@luehlerheim.de
SUMMARY:Boule am Café Lühlerheide
DESCRIPTION:
URL:https://luehlerheim.de/veranstaltung/boule-am-cafe-luehlerheide-22/
LOCATION:NW
CATEGORIES:Café
END:VEVENT
END:VCALENDAR