BEGIN:VCALENDAR
VERSION:2.0
PRODID:-//Lühlerheim - ECPv6.15.18//NONSGML v1.0//EN
CALSCALE:GREGORIAN
METHOD:PUBLISH
X-WR-CALNAME:Lühlerheim
X-ORIGINAL-URL:https://luehlerheim.de
X-WR-CALDESC:Veranstaltungen für Lühlerheim
REFRESH-INTERVAL;VALUE=DURATION:PT1H
X-Robots-Tag:noindex
X-PUBLISHED-TTL:PT1H
BEGIN:VTIMEZONE
TZID:Europe/Berlin
BEGIN:DAYLIGHT
TZOFFSETFROM:+0100
TZOFFSETTO:+0200
TZNAME:CEST
DTSTART:20250330T010000
END:DAYLIGHT
BEGIN:STANDARD
TZOFFSETFROM:+0200
TZOFFSETTO:+0100
TZNAME:CET
DTSTART:20251026T010000
END:STANDARD
BEGIN:DAYLIGHT
TZOFFSETFROM:+0100
TZOFFSETTO:+0200
TZNAME:CEST
DTSTART:20260329T010000
END:DAYLIGHT
BEGIN:STANDARD
TZOFFSETFROM:+0200
TZOFFSETTO:+0100
TZNAME:CET
DTSTART:20261025T010000
END:STANDARD
BEGIN:DAYLIGHT
TZOFFSETFROM:+0100
TZOFFSETTO:+0200
TZNAME:CEST
DTSTART:20270328T010000
END:DAYLIGHT
BEGIN:STANDARD
TZOFFSETFROM:+0200
TZOFFSETTO:+0100
TZNAME:CET
DTSTART:20271031T010000
END:STANDARD
END:VTIMEZONE
BEGIN:VEVENT
DTSTART;TZID=Europe/Berlin:20260704T181500
DTEND;TZID=Europe/Berlin:20260704T181500
DTSTAMP:20260420T161416
CREATED:20250213T120147Z
LAST-MODIFIED:20260401T061313Z
UID:1707-1783188900-1783188900@luehlerheim.de
SUMMARY:Gottesdienste in der Kapelle
DESCRIPTION:
URL:https://luehlerheim.de/veranstaltung/gottesdienste-in-der-kapelle-9/
LOCATION:Evangelische Stiftung Lühlerheim\, Marienthaler Str. 10\, Schermbeck\, NW\, 46514\, Germany
CATEGORIES:Kapelle
END:VEVENT
BEGIN:VEVENT
DTSTART;TZID=Europe/Berlin:20260705T110000
DTEND;TZID=Europe/Berlin:20260705T110000
DTSTAMP:20260420T161416
CREATED:20250213T085154Z
LAST-MODIFIED:20260401T063624Z
UID:1609-1783249200-1783249200@luehlerheim.de
SUMMARY:„Gottesdienst im Grünen“
DESCRIPTION:der Ev. Kgm. Drevenack\, Schermbeck\, An Issel & Rhein\, Kath. Kgm. Brünen & Schermbeck auf dem Lühlerheim-Gelände
URL:https://luehlerheim.de/veranstaltung/gottesdienst-im-gruenen-n-der-ev-kgm-drevenack-schermbeck-an-issel-rhein-kath-kgm-bruenen-schermbeck-auf-dem-luehlerheim-gelaende/
LOCATION:NW
CATEGORIES:Lühlerheim
END:VEVENT
BEGIN:VEVENT
DTSTART;TZID=Europe/Berlin:20260705T110000
DTEND;TZID=Europe/Berlin:20260705T140000
DTSTAMP:20260420T161416
CREATED:20250213T085232Z
LAST-MODIFIED:20260401T063144Z
UID:1611-1783249200-1783260000@luehlerheim.de
SUMMARY:Ökumenischer Gottesdienst „für alle Sinne“ in der Kapelle Lühlerheim
DESCRIPTION:(für demente Bewohner und deren Angehörige)
URL:https://luehlerheim.de/veranstaltung/oekumenischer-gottesdienst-fuer-alle-sinne-in-der-kapelle-luehlerheim/
LOCATION:Evangelische Stiftung Lühlerheim\, Marienthaler Str. 10\, Schermbeck\, NW\, 46514\, Germany
CATEGORIES:Kapelle
END:VEVENT
BEGIN:VEVENT
DTSTART;TZID=Europe/Berlin:20260707T100000
DTEND;TZID=Europe/Berlin:20260707T100000
DTSTAMP:20260420T161416
CREATED:20250213T121745Z
LAST-MODIFIED:20260401T055413Z
UID:1767-1783418400-1783418400@luehlerheim.de
SUMMARY:Andachten im Bossow-Haus
DESCRIPTION:
URL:https://luehlerheim.de/veranstaltung/andachten-im-bossow-haus-17/
LOCATION:Evangelische Stiftung Lühlerheim\, Marienthaler Str. 10\, Schermbeck\, NW\, 46514\, Germany
CATEGORIES:Bossow-Haus
END:VEVENT
BEGIN:VEVENT
DTSTART;TZID=Europe/Berlin:20260707T160000
DTEND;TZID=Europe/Berlin:20260707T173000
DTSTAMP:20260420T161416
CREATED:20250213T131901Z
LAST-MODIFIED:20260401T062422Z
UID:1877-1783440000-1783445400@luehlerheim.de
SUMMARY:Boule am Café Lühlerheide
DESCRIPTION:
URL:https://luehlerheim.de/veranstaltung/boule-am-cafe-luehlerheide-14/
LOCATION:NW
CATEGORIES:Café
END:VEVENT
BEGIN:VEVENT
DTSTART;TZID=Europe/Berlin:20260714T100000
DTEND;TZID=Europe/Berlin:20260714T100000
DTSTAMP:20260420T161416
CREATED:20250213T121749Z
LAST-MODIFIED:20260401T055421Z
UID:1768-1784023200-1784023200@luehlerheim.de
SUMMARY:Andachten im Bossow-Haus
DESCRIPTION:
URL:https://luehlerheim.de/veranstaltung/andachten-im-bossow-haus-18/
LOCATION:Evangelische Stiftung Lühlerheim\, Marienthaler Str. 10\, Schermbeck\, NW\, 46514\, Germany
CATEGORIES:Bossow-Haus
END:VEVENT
BEGIN:VEVENT
DTSTART;TZID=Europe/Berlin:20260714T140000
DTEND;TZID=Europe/Berlin:20260714T160000
DTSTAMP:20260420T161416
CREATED:20250213T131141Z
LAST-MODIFIED:20260401T061848Z
UID:1831-1784037600-1784044800@luehlerheim.de
SUMMARY:Gesprächsrunde Freizeithaus
DESCRIPTION:
URL:https://luehlerheim.de/veranstaltung/gespraechsrunde-freizeithaus-9/
LOCATION:Evangelische Stiftung Lühlerheim\, Marienthaler Str. 10\, Schermbeck\, NW\, 46514\, Germany
CATEGORIES:Freizeithaus
END:VEVENT
BEGIN:VEVENT
DTSTART;TZID=Europe/Berlin:20260714T160000
DTEND;TZID=Europe/Berlin:20260714T173000
DTSTAMP:20260420T161416
CREATED:20250213T131906Z
LAST-MODIFIED:20260401T062428Z
UID:1879-1784044800-1784050200@luehlerheim.de
SUMMARY:Boule am Café Lühlerheide
DESCRIPTION:
URL:https://luehlerheim.de/veranstaltung/boule-am-cafe-luehlerheide-15/
LOCATION:NW
CATEGORIES:Café
END:VEVENT
BEGIN:VEVENT
DTSTART;TZID=Europe/Berlin:20260718T181500
DTEND;TZID=Europe/Berlin:20260718T181500
DTSTAMP:20260420T161416
CREATED:20250213T120306Z
LAST-MODIFIED:20260401T061318Z
UID:1716-1784398500-1784398500@luehlerheim.de
SUMMARY:Gottesdienste in der Kapelle
DESCRIPTION:
URL:https://luehlerheim.de/veranstaltung/gottesdienste-in-der-kapelle-10/
LOCATION:Evangelische Stiftung Lühlerheim\, Marienthaler Str. 10\, Schermbeck\, NW\, 46514\, Germany
CATEGORIES:Kapelle
END:VEVENT
BEGIN:VEVENT
DTSTART;TZID=Europe/Berlin:20260721T100000
DTEND;TZID=Europe/Berlin:20260721T100000
DTSTAMP:20260420T161416
CREATED:20250213T121753Z
LAST-MODIFIED:20260401T055427Z
UID:1769-1784628000-1784628000@luehlerheim.de
SUMMARY:Andachten im Bossow-Haus
DESCRIPTION:
URL:https://luehlerheim.de/veranstaltung/andachten-im-bossow-haus-19/
LOCATION:Evangelische Stiftung Lühlerheim\, Marienthaler Str. 10\, Schermbeck\, NW\, 46514\, Germany
CATEGORIES:Bossow-Haus
END:VEVENT
BEGIN:VEVENT
DTSTART;TZID=Europe/Berlin:20260721T160000
DTEND;TZID=Europe/Berlin:20260721T173000
DTSTAMP:20260420T161416
CREATED:20250213T131918Z
LAST-MODIFIED:20260401T062432Z
UID:1881-1784649600-1784655000@luehlerheim.de
SUMMARY:Boule am Café Lühlerheide
DESCRIPTION:
URL:https://luehlerheim.de/veranstaltung/boule-am-cafe-luehlerheide-16/
LOCATION:NW
CATEGORIES:Café
END:VEVENT
BEGIN:VEVENT
DTSTART;TZID=Europe/Berlin:20260728T100000
DTEND;TZID=Europe/Berlin:20260728T100000
DTSTAMP:20260420T161416
CREATED:20250213T121802Z
LAST-MODIFIED:20260401T055433Z
UID:1770-1785232800-1785232800@luehlerheim.de
SUMMARY:Andachten im Bossow-Haus
DESCRIPTION:
URL:https://luehlerheim.de/veranstaltung/andachten-im-bossow-haus-20/
LOCATION:Evangelische Stiftung Lühlerheim\, Marienthaler Str. 10\, Schermbeck\, NW\, 46514\, Germany
CATEGORIES:Bossow-Haus
END:VEVENT
BEGIN:VEVENT
DTSTART;TZID=Europe/Berlin:20260728T140000
DTEND;TZID=Europe/Berlin:20260728T160000
DTSTAMP:20260420T161416
CREATED:20250213T131148Z
LAST-MODIFIED:20260401T061855Z
UID:1832-1785247200-1785254400@luehlerheim.de
SUMMARY:Gesprächsrunde Freizeithaus
DESCRIPTION:
URL:https://luehlerheim.de/veranstaltung/gespraechsrunde-freizeithaus-10/
LOCATION:Evangelische Stiftung Lühlerheim\, Marienthaler Str. 10\, Schermbeck\, NW\, 46514\, Germany
CATEGORIES:Freizeithaus
END:VEVENT
BEGIN:VEVENT
DTSTART;TZID=Europe/Berlin:20260728T160000
DTEND;TZID=Europe/Berlin:20260728T173000
DTSTAMP:20260420T161416
CREATED:20250213T131929Z
LAST-MODIFIED:20260401T062441Z
UID:1880-1785254400-1785259800@luehlerheim.de
SUMMARY:Boule am Café Lühlerheide
DESCRIPTION:
URL:https://luehlerheim.de/veranstaltung/boule-am-cafe-luehlerheide-17/
LOCATION:NW
CATEGORIES:Café
END:VEVENT
END:VCALENDAR