BEGIN:VCALENDAR
VERSION:2.0
PRODID:-//Lühlerheim - ECPv6.15.18//NONSGML v1.0//EN
CALSCALE:GREGORIAN
METHOD:PUBLISH
X-WR-CALNAME:Lühlerheim
X-ORIGINAL-URL:https://luehlerheim.de
X-WR-CALDESC:Veranstaltungen für Lühlerheim
REFRESH-INTERVAL;VALUE=DURATION:PT1H
X-Robots-Tag:noindex
X-PUBLISHED-TTL:PT1H
BEGIN:VTIMEZONE
TZID:Europe/Berlin
BEGIN:DAYLIGHT
TZOFFSETFROM:+0100
TZOFFSETTO:+0200
TZNAME:CEST
DTSTART:20250330T010000
END:DAYLIGHT
BEGIN:STANDARD
TZOFFSETFROM:+0200
TZOFFSETTO:+0100
TZNAME:CET
DTSTART:20251026T010000
END:STANDARD
BEGIN:DAYLIGHT
TZOFFSETFROM:+0100
TZOFFSETTO:+0200
TZNAME:CEST
DTSTART:20260329T010000
END:DAYLIGHT
BEGIN:STANDARD
TZOFFSETFROM:+0200
TZOFFSETTO:+0100
TZNAME:CET
DTSTART:20261025T010000
END:STANDARD
BEGIN:DAYLIGHT
TZOFFSETFROM:+0100
TZOFFSETTO:+0200
TZNAME:CEST
DTSTART:20270328T010000
END:DAYLIGHT
BEGIN:STANDARD
TZOFFSETFROM:+0200
TZOFFSETTO:+0100
TZNAME:CET
DTSTART:20271031T010000
END:STANDARD
END:VTIMEZONE
BEGIN:VEVENT
DTSTART;TZID=Europe/Berlin:20260502T160000
DTEND;TZID=Europe/Berlin:20260502T170000
DTSTAMP:20260420T134419
CREATED:20260402T073716Z
LAST-MODIFIED:20260416T060207Z
UID:2240-1777737600-1777741200@luehlerheim.de
SUMMARY:Aufführung Werkprobe des Theaterstücks „Die Farm der Tiere“
DESCRIPTION:Bitte beachten Sie: Es werden nur Auszüge aufgeführt/geprobt\, nicht das komplette Theaterstück!\n\nDie Jugendgruppe des Theaters Krefeld Mönchengladbach möchte im Juli „Die Farm der Tiere“ nach George Orwell auf die Bühne bringen. \nUm das Werk realistischer gestalten zu können\, wird die Theatergruppe an diesem Tag bereits ab 10:00 Uhr bei uns den Hof und unsere Tiere kennenlernen. Besonders: wie die Tiere sich verhalten\, bewegen\, untereinander agieren…. Aber auch\, wie riecht es auf einem Hof\, was gibt es für Geräusche\, wie schwer ist die Arbeit in der Landwirtschaft usw.\nDenn die meisten Jugendlichen und jungen Leute aus der Theatergruppe kommen aus einem Großstadtumfeld und hatten bisher keinen direkten Kontakt mit Tieren vom Bauernhof. \nUm 16:00 Uhr wird dann vor und für Zuschauer/innen das „Gelernte“ in die Praxis umgesetzt\, mit einigen Auszügen aus dem Stück „Die Farm der Tiere“.
URL:https://luehlerheim.de/veranstaltung/auffuehrung-werkprobe-des-theaterstuecks-die-farm-der-tiere/
LOCATION:Evangelische Stiftung Lühlerheim\, Marienthaler Str. 10\, Schermbeck\, NW\, 46514\, Germany
CATEGORIES:Hof
END:VEVENT
BEGIN:VEVENT
DTSTART;TZID=Europe/Berlin:20260502T181500
DTEND;TZID=Europe/Berlin:20260502T181500
DTSTAMP:20260420T134420
CREATED:20250213T120105Z
LAST-MODIFIED:20260401T061232Z
UID:1703-1777745700-1777745700@luehlerheim.de
SUMMARY:Gottesdienste in der Kapelle
DESCRIPTION:
URL:https://luehlerheim.de/veranstaltung/gottesdienste-in-der-kapelle-5/
LOCATION:Evangelische Stiftung Lühlerheim\, Marienthaler Str. 10\, Schermbeck\, NW\, 46514\, Germany
CATEGORIES:Kapelle
END:VEVENT
BEGIN:VEVENT
DTSTART;TZID=Europe/Berlin:20260505T100000
DTEND;TZID=Europe/Berlin:20260505T100000
DTSTAMP:20260420T134420
CREATED:20250213T121606Z
LAST-MODIFIED:20260401T055145Z
UID:1751-1777975200-1777975200@luehlerheim.de
SUMMARY:Andachten im Bossow-Haus
DESCRIPTION:
URL:https://luehlerheim.de/veranstaltung/andachten-im-bossow-haus-9/
LOCATION:Evangelische Stiftung Lühlerheim\, Marienthaler Str. 10\, Schermbeck\, NW\, 46514\, Germany
CATEGORIES:Bossow-Haus
END:VEVENT
BEGIN:VEVENT
DTSTART;TZID=Europe/Berlin:20260505T160000
DTEND;TZID=Europe/Berlin:20260505T173000
DTSTAMP:20260420T134420
CREATED:20250213T131826Z
LAST-MODIFIED:20260401T062241Z
UID:1872-1777996800-1778002200@luehlerheim.de
SUMMARY:Boule am Café Lühlerheide
DESCRIPTION:
URL:https://luehlerheim.de/veranstaltung/boule-am-cafe-luehlerheide-6/
LOCATION:NW
CATEGORIES:Café
END:VEVENT
BEGIN:VEVENT
DTSTART;TZID=Europe/Berlin:20260506T080000
DTEND;TZID=Europe/Berlin:20260510T170000
DTSTAMP:20260420T134420
CREATED:20260402T065852Z
LAST-MODIFIED:20260402T065852Z
UID:2229-1778054400-1778432400@luehlerheim.de
SUMMARY:Praxiswoche TGI der Hochschule Niederrhein
DESCRIPTION:
URL:https://luehlerheim.de/veranstaltung/praxiswoche-tgi-der-hochschule-niederrhein/
LOCATION:Arche Hof Lühlerheide\, Germany
CATEGORIES:Hof
END:VEVENT
BEGIN:VEVENT
DTSTART;TZID=Europe/Berlin:20260512T100000
DTEND;TZID=Europe/Berlin:20260512T100000
DTSTAMP:20260420T134420
CREATED:20250213T121612Z
LAST-MODIFIED:20260401T055153Z
UID:1752-1778580000-1778580000@luehlerheim.de
SUMMARY:Andachten im Bossow-Haus
DESCRIPTION:
URL:https://luehlerheim.de/veranstaltung/andachten-im-bossow-haus-10/
LOCATION:Evangelische Stiftung Lühlerheim\, Marienthaler Str. 10\, Schermbeck\, NW\, 46514\, Germany
CATEGORIES:Bossow-Haus
END:VEVENT
BEGIN:VEVENT
DTSTART;TZID=Europe/Berlin:20260512T140000
DTEND;TZID=Europe/Berlin:20260512T160000
DTSTAMP:20260420T134420
CREATED:20250213T131109Z
LAST-MODIFIED:20260401T061816Z
UID:1827-1778594400-1778601600@luehlerheim.de
SUMMARY:Gesprächsrunde Freizeithaus
DESCRIPTION:
URL:https://luehlerheim.de/veranstaltung/gespraechsrunde-freizeithaus-5/
LOCATION:Evangelische Stiftung Lühlerheim\, Marienthaler Str. 10\, Schermbeck\, NW\, 46514\, Germany
CATEGORIES:Freizeithaus
END:VEVENT
BEGIN:VEVENT
DTSTART;TZID=Europe/Berlin:20260512T160000
DTEND;TZID=Europe/Berlin:20260512T173000
DTSTAMP:20260420T134420
CREATED:20250213T131829Z
LAST-MODIFIED:20260401T062250Z
UID:1871-1778601600-1778607000@luehlerheim.de
SUMMARY:Boule am Café Lühlerheide
DESCRIPTION:
URL:https://luehlerheim.de/veranstaltung/boule-am-cafe-luehlerheide-7/
LOCATION:NW
CATEGORIES:Café
END:VEVENT
BEGIN:VEVENT
DTSTART;TZID=Europe/Berlin:20260516T181500
DTEND;TZID=Europe/Berlin:20260516T181500
DTSTAMP:20260420T134420
CREATED:20250213T120113Z
LAST-MODIFIED:20260401T061241Z
UID:1704-1778955300-1778955300@luehlerheim.de
SUMMARY:Gottesdienste in der Kapelle
DESCRIPTION:
URL:https://luehlerheim.de/veranstaltung/gottesdienste-in-der-kapelle-6/
LOCATION:Evangelische Stiftung Lühlerheim\, Marienthaler Str. 10\, Schermbeck\, NW\, 46514\, Germany
CATEGORIES:Kapelle
END:VEVENT
BEGIN:VEVENT
DTSTART;TZID=Europe/Berlin:20260519T100000
DTEND;TZID=Europe/Berlin:20260519T100000
DTSTAMP:20260420T134420
CREATED:20250213T121616Z
LAST-MODIFIED:20260401T055203Z
UID:1753-1779184800-1779184800@luehlerheim.de
SUMMARY:Andachten im Bossow-Haus
DESCRIPTION:
URL:https://luehlerheim.de/veranstaltung/andachten-im-bossow-haus-11/
LOCATION:Evangelische Stiftung Lühlerheim\, Marienthaler Str. 10\, Schermbeck\, NW\, 46514\, Germany
CATEGORIES:Bossow-Haus
END:VEVENT
BEGIN:VEVENT
DTSTART;TZID=Europe/Berlin:20260519T160000
DTEND;TZID=Europe/Berlin:20260519T173000
DTSTAMP:20260420T134420
CREATED:20250213T131832Z
LAST-MODIFIED:20260401T062254Z
UID:1870-1779206400-1779211800@luehlerheim.de
SUMMARY:Boule am Café Lühlerheide
DESCRIPTION:
URL:https://luehlerheim.de/veranstaltung/boule-am-cafe-luehlerheide-8/
LOCATION:NW
CATEGORIES:Café
END:VEVENT
BEGIN:VEVENT
DTSTART;TZID=Europe/Berlin:20260523T160000
DTEND;TZID=Europe/Berlin:20260523T160000
DTSTAMP:20260420T134420
CREATED:20250213T085132Z
LAST-MODIFIED:20260401T062852Z
UID:1607-1779552000-1779552000@luehlerheim.de
SUMMARY:Ökumenischer Gottesdienst „für alle Sinne“ in der Kapelle Lühlerheim
DESCRIPTION:(für demente Bewohner und deren Angehörige)
URL:https://luehlerheim.de/veranstaltung/oekumenischer-gottesdienst-fuer-alle-sinne-in-der-kapelle-luehlerheim-4/
LOCATION:NW
CATEGORIES:Kapelle,Lühlerheim
END:VEVENT
BEGIN:VEVENT
DTSTART;TZID=Europe/Berlin:20260526T100000
DTEND;TZID=Europe/Berlin:20260526T100000
DTSTAMP:20260420T134420
CREATED:20250213T121621Z
LAST-MODIFIED:20260401T055209Z
UID:1754-1779789600-1779789600@luehlerheim.de
SUMMARY:Andachten im Bossow-Haus
DESCRIPTION:
URL:https://luehlerheim.de/veranstaltung/andachten-im-bossow-haus-12/
LOCATION:Evangelische Stiftung Lühlerheim\, Marienthaler Str. 10\, Schermbeck\, NW\, 46514\, Germany
CATEGORIES:Bossow-Haus
END:VEVENT
BEGIN:VEVENT
DTSTART;TZID=Europe/Berlin:20260526T140000
DTEND;TZID=Europe/Berlin:20260526T160000
DTSTAMP:20260420T134420
CREATED:20250213T131115Z
LAST-MODIFIED:20260401T061822Z
UID:1828-1779804000-1779811200@luehlerheim.de
SUMMARY:Gesprächsrunde Freizeithaus
DESCRIPTION:
URL:https://luehlerheim.de/veranstaltung/gespraechsrunde-freizeithaus-6/
LOCATION:Evangelische Stiftung Lühlerheim\, Marienthaler Str. 10\, Schermbeck\, NW\, 46514\, Germany
CATEGORIES:Freizeithaus
END:VEVENT
BEGIN:VEVENT
DTSTART;TZID=Europe/Berlin:20260526T160000
DTEND;TZID=Europe/Berlin:20260526T173000
DTSTAMP:20260420T134420
CREATED:20250213T131838Z
LAST-MODIFIED:20260401T062258Z
UID:1876-1779811200-1779816600@luehlerheim.de
SUMMARY:Boule am Café Lühlerheide
DESCRIPTION:
URL:https://luehlerheim.de/veranstaltung/boule-am-cafe-luehlerheide-9/
LOCATION:NW
CATEGORIES:Café
END:VEVENT
END:VCALENDAR