BEGIN:VCALENDAR
VERSION:2.0
PRODID:-//Lühlerheim - ECPv6.15.18//NONSGML v1.0//EN
CALSCALE:GREGORIAN
METHOD:PUBLISH
X-WR-CALNAME:Lühlerheim
X-ORIGINAL-URL:https://luehlerheim.de
X-WR-CALDESC:Veranstaltungen für Lühlerheim
REFRESH-INTERVAL;VALUE=DURATION:PT1H
X-Robots-Tag:noindex
X-PUBLISHED-TTL:PT1H
BEGIN:VTIMEZONE
TZID:Europe/Berlin
BEGIN:DAYLIGHT
TZOFFSETFROM:+0100
TZOFFSETTO:+0200
TZNAME:CEST
DTSTART:20250330T010000
END:DAYLIGHT
BEGIN:STANDARD
TZOFFSETFROM:+0200
TZOFFSETTO:+0100
TZNAME:CET
DTSTART:20251026T010000
END:STANDARD
BEGIN:DAYLIGHT
TZOFFSETFROM:+0100
TZOFFSETTO:+0200
TZNAME:CEST
DTSTART:20260329T010000
END:DAYLIGHT
BEGIN:STANDARD
TZOFFSETFROM:+0200
TZOFFSETTO:+0100
TZNAME:CET
DTSTART:20261025T010000
END:STANDARD
BEGIN:DAYLIGHT
TZOFFSETFROM:+0100
TZOFFSETTO:+0200
TZNAME:CEST
DTSTART:20270328T010000
END:DAYLIGHT
BEGIN:STANDARD
TZOFFSETFROM:+0200
TZOFFSETTO:+0100
TZNAME:CET
DTSTART:20271031T010000
END:STANDARD
END:VTIMEZONE
BEGIN:VEVENT
DTSTART;TZID=Europe/Berlin:20260919T181500
DTEND;TZID=Europe/Berlin:20260919T181500
DTSTAMP:20260420T211335
CREATED:20250213T120350Z
LAST-MODIFIED:20260401T061352Z
UID:1721-1789841700-1789841700@luehlerheim.de
SUMMARY:Gottesdienste in der Kapelle
DESCRIPTION:
URL:https://luehlerheim.de/veranstaltung/gottesdienste-in-der-kapelle-14/
LOCATION:Evangelische Stiftung Lühlerheim\, Marienthaler Str. 10\, Schermbeck\, NW\, 46514\, Germany
CATEGORIES:Kapelle
END:VEVENT
BEGIN:VEVENT
DTSTART;TZID=Europe/Berlin:20260922T100000
DTEND;TZID=Europe/Berlin:20260922T100000
DTSTAMP:20260420T211335
CREATED:20250213T121957Z
LAST-MODIFIED:20260401T055537Z
UID:1791-1790071200-1790071200@luehlerheim.de
SUMMARY:Andachten im Bossow-Haus
DESCRIPTION:
URL:https://luehlerheim.de/veranstaltung/andachten-im-bossow-haus-28/
LOCATION:Evangelische Stiftung Lühlerheim\, Marienthaler Str. 10\, Schermbeck\, NW\, 46514\, Germany
CATEGORIES:Bossow-Haus
END:VEVENT
BEGIN:VEVENT
DTSTART;TZID=Europe/Berlin:20260922T140000
DTEND;TZID=Europe/Berlin:20260922T160000
DTSTAMP:20260420T211335
CREATED:20250213T131224Z
LAST-MODIFIED:20260401T061925Z
UID:1836-1790085600-1790092800@luehlerheim.de
SUMMARY:Gesprächsrunde Freizeithaus
DESCRIPTION:
URL:https://luehlerheim.de/veranstaltung/gespraechsrunde-freizeithaus-14/
LOCATION:Evangelische Stiftung Lühlerheim\, Marienthaler Str. 10\, Schermbeck\, NW\, 46514\, Germany
CATEGORIES:Freizeithaus
END:VEVENT
BEGIN:VEVENT
DTSTART;TZID=Europe/Berlin:20260922T160000
DTEND;TZID=Europe/Berlin:20260922T173000
DTSTAMP:20260420T211335
CREATED:20250213T135930Z
LAST-MODIFIED:20260401T062528Z
UID:1906-1790092800-1790098200@luehlerheim.de
SUMMARY:Boule am Café Lühlerheide
DESCRIPTION:
URL:https://luehlerheim.de/veranstaltung/boule-am-cafe-luehlerheide-26/
LOCATION:NW
CATEGORIES:Café
END:VEVENT
BEGIN:VEVENT
DTSTART;TZID=Europe/Berlin:20260929T160000
DTEND;TZID=Europe/Berlin:20260929T173000
DTSTAMP:20260420T211335
CREATED:20250213T135936Z
LAST-MODIFIED:20260401T062541Z
UID:1915-1790697600-1790703000@luehlerheim.de
SUMMARY:Boule am Café Lühlerheide
DESCRIPTION:
URL:https://luehlerheim.de/veranstaltung/boule-am-cafe-luehlerheide-27/
LOCATION:NW
CATEGORIES:Café
END:VEVENT
BEGIN:VEVENT
DTSTART;TZID=Europe/Berlin:20261003T181500
DTEND;TZID=Europe/Berlin:20261003T181500
DTSTAMP:20260420T211335
CREATED:20250213T085350Z
LAST-MODIFIED:20260401T063225Z
UID:1617-1791051300-1791051300@luehlerheim.de
SUMMARY:Ökumenischer Erntedankgottesdienst mit anschließendem Kartoffelfeuer
DESCRIPTION:mit anschließendem Kartoffelfeuer
URL:https://luehlerheim.de/veranstaltung/oekumenischer-erntedankgottesdienst-mit-anschliessendem-kartoffelfeuer/
LOCATION:Evangelische Stiftung Lühlerheim\, Marienthaler Str. 10\, Schermbeck\, NW\, 46514\, Germany
CATEGORIES:Lühlerheim
END:VEVENT
BEGIN:VEVENT
DTSTART;TZID=Europe/Berlin:20261003T181500
DTEND;TZID=Europe/Berlin:20261003T181500
DTSTAMP:20260420T211335
CREATED:20250213T120406Z
LAST-MODIFIED:20260401T061410Z
UID:1723-1791051300-1791051300@luehlerheim.de
SUMMARY:Gottesdienste in der Kapelle
DESCRIPTION:
URL:https://luehlerheim.de/veranstaltung/gottesdienste-in-der-kapelle-16/
LOCATION:Evangelische Stiftung Lühlerheim\, Marienthaler Str. 10\, Schermbeck\, NW\, 46514\, Germany
CATEGORIES:Kapelle
END:VEVENT
BEGIN:VEVENT
DTSTART;TZID=Europe/Berlin:20261006T100000
DTEND;TZID=Europe/Berlin:20261006T100000
DTSTAMP:20260420T211335
CREATED:20250213T122003Z
LAST-MODIFIED:20260401T055549Z
UID:1790-1791280800-1791280800@luehlerheim.de
SUMMARY:Andachten im Bossow-Haus
DESCRIPTION:
URL:https://luehlerheim.de/veranstaltung/andachten-im-bossow-haus-29/
LOCATION:Evangelische Stiftung Lühlerheim\, Marienthaler Str. 10\, Schermbeck\, NW\, 46514\, Germany
CATEGORIES:Bossow-Haus
END:VEVENT
BEGIN:VEVENT
DTSTART;TZID=Europe/Berlin:20261013T100000
DTEND;TZID=Europe/Berlin:20261013T100000
DTSTAMP:20260420T211335
CREATED:20250213T122013Z
LAST-MODIFIED:20260401T055556Z
UID:1789-1791885600-1791885600@luehlerheim.de
SUMMARY:Andachten im Bossow-Haus
DESCRIPTION:
URL:https://luehlerheim.de/veranstaltung/andachten-im-bossow-haus-30/
LOCATION:Evangelische Stiftung Lühlerheim\, Marienthaler Str. 10\, Schermbeck\, NW\, 46514\, Germany
CATEGORIES:Bossow-Haus
END:VEVENT
BEGIN:VEVENT
DTSTART;TZID=Europe/Berlin:20261013T140000
DTEND;TZID=Europe/Berlin:20261013T160000
DTSTAMP:20260420T211335
CREATED:20250213T131235Z
LAST-MODIFIED:20260401T061930Z
UID:1837-1791900000-1791907200@luehlerheim.de
SUMMARY:Gesprächsrunde Freizeithaus
DESCRIPTION:
URL:https://luehlerheim.de/veranstaltung/gespraechsrunde-freizeithaus-15/
LOCATION:Evangelische Stiftung Lühlerheim\, Marienthaler Str. 10\, Schermbeck\, NW\, 46514\, Germany
CATEGORIES:Freizeithaus
END:VEVENT
BEGIN:VEVENT
DTSTART;TZID=Europe/Berlin:20261017T181500
DTEND;TZID=Europe/Berlin:20261017T181500
DTSTAMP:20260420T211335
CREATED:20260401T061432Z
LAST-MODIFIED:20260401T061432Z
UID:2219-1792260900-1792260900@luehlerheim.de
SUMMARY:Gottesdienste in der Kapelle
DESCRIPTION:
URL:https://luehlerheim.de/veranstaltung/gottesdienste-in-der-kapelle-15/
LOCATION:Evangelische Stiftung Lühlerheim\, Marienthaler Str. 10\, Schermbeck\, NW\, 46514\, Germany
CATEGORIES:Kapelle
END:VEVENT
BEGIN:VEVENT
DTSTART;TZID=Europe/Berlin:20261020T100000
DTEND;TZID=Europe/Berlin:20261020T100000
DTSTAMP:20260420T211335
CREATED:20250213T122017Z
LAST-MODIFIED:20260401T055641Z
UID:1788-1792490400-1792490400@luehlerheim.de
SUMMARY:Andachten im Bossow-Haus
DESCRIPTION:
URL:https://luehlerheim.de/veranstaltung/andachten-im-bossow-haus-31/
LOCATION:Evangelische Stiftung Lühlerheim\, Marienthaler Str. 10\, Schermbeck\, NW\, 46514\, Germany
CATEGORIES:Bossow-Haus
END:VEVENT
BEGIN:VEVENT
DTSTART;TZID=Europe/Berlin:20261027T100000
DTEND;TZID=Europe/Berlin:20261027T100000
DTSTAMP:20260420T211335
CREATED:20250213T122021Z
LAST-MODIFIED:20260401T055649Z
UID:1787-1793095200-1793095200@luehlerheim.de
SUMMARY:Andachten im Bossow-Haus
DESCRIPTION:
URL:https://luehlerheim.de/veranstaltung/andachten-im-bossow-haus-32/
LOCATION:Evangelische Stiftung Lühlerheim\, Marienthaler Str. 10\, Schermbeck\, NW\, 46514\, Germany
CATEGORIES:Bossow-Haus
END:VEVENT
BEGIN:VEVENT
DTSTART;TZID=Europe/Berlin:20261027T140000
DTEND;TZID=Europe/Berlin:20261027T160000
DTSTAMP:20260420T211335
CREATED:20250213T131242Z
LAST-MODIFIED:20260401T061935Z
UID:1838-1793109600-1793116800@luehlerheim.de
SUMMARY:Gesprächsrunde Freizeithaus
DESCRIPTION:
URL:https://luehlerheim.de/veranstaltung/gespraechsrunde-freizeithaus-16/
LOCATION:Evangelische Stiftung Lühlerheim\, Marienthaler Str. 10\, Schermbeck\, NW\, 46514\, Germany
CATEGORIES:Freizeithaus
END:VEVENT
BEGIN:VEVENT
DTSTART;TZID=Europe/Berlin:20261103T100000
DTEND;TZID=Europe/Berlin:20261103T100000
DTSTAMP:20260420T211335
CREATED:20250213T125221Z
LAST-MODIFIED:20260401T055655Z
UID:1804-1793700000-1793700000@luehlerheim.de
SUMMARY:Andachten im Bossow-Haus
DESCRIPTION:
URL:https://luehlerheim.de/veranstaltung/andachten-im-bossow-haus-33/
LOCATION:Evangelische Stiftung Lühlerheim\, Marienthaler Str. 10\, Schermbeck\, NW\, 46514\, Germany
CATEGORIES:Bossow-Haus
END:VEVENT
BEGIN:VEVENT
DTSTART;TZID=Europe/Berlin:20261107T181500
DTEND;TZID=Europe/Berlin:20261107T181500
DTSTAMP:20260420T211335
CREATED:20250213T120414Z
LAST-MODIFIED:20260401T061506Z
UID:1722-1794075300-1794075300@luehlerheim.de
SUMMARY:Gottesdienste in der Kapelle
DESCRIPTION:
URL:https://luehlerheim.de/veranstaltung/gottesdienste-in-der-kapelle-17/
LOCATION:Evangelische Stiftung Lühlerheim\, Marienthaler Str. 10\, Schermbeck\, NW\, 46514\, Germany
CATEGORIES:Kapelle
END:VEVENT
BEGIN:VEVENT
DTSTART;TZID=Europe/Berlin:20261110T100000
DTEND;TZID=Europe/Berlin:20261110T100000
DTSTAMP:20260420T211335
CREATED:20250213T125225Z
LAST-MODIFIED:20260401T055659Z
UID:1805-1794304800-1794304800@luehlerheim.de
SUMMARY:Andachten im Bossow-Haus
DESCRIPTION:
URL:https://luehlerheim.de/veranstaltung/andachten-im-bossow-haus-34/
LOCATION:Evangelische Stiftung Lühlerheim\, Marienthaler Str. 10\, Schermbeck\, NW\, 46514\, Germany
CATEGORIES:Bossow-Haus
END:VEVENT
BEGIN:VEVENT
DTSTART;TZID=Europe/Berlin:20261110T140000
DTEND;TZID=Europe/Berlin:20261110T160000
DTSTAMP:20260420T211335
CREATED:20250213T131309Z
LAST-MODIFIED:20260401T061940Z
UID:1839-1794319200-1794326400@luehlerheim.de
SUMMARY:Gesprächsrunde Freizeithaus
DESCRIPTION:
URL:https://luehlerheim.de/veranstaltung/gespraechsrunde-freizeithaus-17/
LOCATION:Evangelische Stiftung Lühlerheim\, Marienthaler Str. 10\, Schermbeck\, NW\, 46514\, Germany
CATEGORIES:Freizeithaus
END:VEVENT
BEGIN:VEVENT
DTSTART;TZID=Europe/Berlin:20261117T100000
DTEND;TZID=Europe/Berlin:20261117T100000
DTSTAMP:20260420T211335
CREATED:20250213T125231Z
LAST-MODIFIED:20260401T055706Z
UID:1806-1794909600-1794909600@luehlerheim.de
SUMMARY:Andachten im Bossow-Haus
DESCRIPTION:
URL:https://luehlerheim.de/veranstaltung/andachten-im-bossow-haus-35/
LOCATION:Evangelische Stiftung Lühlerheim\, Marienthaler Str. 10\, Schermbeck\, NW\, 46514\, Germany
CATEGORIES:Bossow-Haus
END:VEVENT
BEGIN:VEVENT
DTSTART;TZID=Europe/Berlin:20261121T160000
DTEND;TZID=Europe/Berlin:20261121T160000
DTSTAMP:20260420T211335
CREATED:20250213T085427Z
LAST-MODIFIED:20260401T063307Z
UID:1619-1795276800-1795276800@luehlerheim.de
SUMMARY:Ökumenischer Gottesdienst im Bossow-Haus
DESCRIPTION:im Gedenken an die verstorbenen Bewohner mit anschließendem Kaffeetrinken
URL:https://luehlerheim.de/veranstaltung/oekumenischer-gottesdienst-im-bossow-haus/
LOCATION:Evangelische Stiftung Lühlerheim\, Marienthaler Str. 10\, Schermbeck\, NW\, 46514\, Germany
CATEGORIES:Lühlerheim
END:VEVENT
BEGIN:VEVENT
DTSTART;TZID=Europe/Berlin:20261121T181500
DTEND;TZID=Europe/Berlin:20261121T181500
DTSTAMP:20260420T211335
CREATED:20250213T085513Z
LAST-MODIFIED:20260401T063304Z
UID:1621-1795284900-1795284900@luehlerheim.de
SUMMARY:Ökumenischer Gedenkgottesdienst
DESCRIPTION:für die Angehörigen der verstorbenen Bewohner mit anschließendem Beisammensein in der Kapelle
URL:https://luehlerheim.de/veranstaltung/oekumenischer-gedenkgottesdienst/
LOCATION:Evangelische Stiftung Lühlerheim\, Marienthaler Str. 10\, Schermbeck\, NW\, 46514\, Germany
CATEGORIES:Lühlerheim
END:VEVENT
BEGIN:VEVENT
DTSTART;TZID=Europe/Berlin:20261121T181500
DTEND;TZID=Europe/Berlin:20261121T181500
DTSTAMP:20260420T211335
CREATED:20260401T061540Z
LAST-MODIFIED:20260401T061540Z
UID:2221-1795284900-1795284900@luehlerheim.de
SUMMARY:Gottesdienste in der Kapelle
DESCRIPTION:
URL:https://luehlerheim.de/veranstaltung/gottesdienste-in-der-kapelle-18/
LOCATION:Evangelische Stiftung Lühlerheim\, Marienthaler Str. 10\, Schermbeck\, NW\, 46514\, Germany
CATEGORIES:Kapelle
END:VEVENT
BEGIN:VEVENT
DTSTART;TZID=Europe/Berlin:20261124T100000
DTEND;TZID=Europe/Berlin:20261124T100000
DTSTAMP:20260420T211335
CREATED:20250213T125235Z
LAST-MODIFIED:20260401T055712Z
UID:1807-1795514400-1795514400@luehlerheim.de
SUMMARY:Andachten im Bossow-Haus
DESCRIPTION:
URL:https://luehlerheim.de/veranstaltung/andachten-im-bossow-haus-36/
LOCATION:Evangelische Stiftung Lühlerheim\, Marienthaler Str. 10\, Schermbeck\, NW\, 46514\, Germany
CATEGORIES:Bossow-Haus
END:VEVENT
BEGIN:VEVENT
DTSTART;TZID=Europe/Berlin:20261124T140000
DTEND;TZID=Europe/Berlin:20261124T160000
DTSTAMP:20260420T211335
CREATED:20250213T131349Z
LAST-MODIFIED:20260401T061945Z
UID:1859-1795528800-1795536000@luehlerheim.de
SUMMARY:Gesprächsrunde Freizeithaus
DESCRIPTION:
URL:https://luehlerheim.de/veranstaltung/gespraechsrunde-freizeithaus-18/
LOCATION:Evangelische Stiftung Lühlerheim\, Marienthaler Str. 10\, Schermbeck\, NW\, 46514\, Germany
CATEGORIES:Freizeithaus
END:VEVENT
BEGIN:VEVENT
DTSTART;TZID=Europe/Berlin:20261201T100000
DTEND;TZID=Europe/Berlin:20261201T100000
DTSTAMP:20260420T211335
CREATED:20250213T125244Z
LAST-MODIFIED:20260401T055717Z
UID:1808-1796119200-1796119200@luehlerheim.de
SUMMARY:Andachten im Bossow-Haus
DESCRIPTION:
URL:https://luehlerheim.de/veranstaltung/andachten-im-bossow-haus-37/
LOCATION:Evangelische Stiftung Lühlerheim\, Marienthaler Str. 10\, Schermbeck\, NW\, 46514\, Germany
CATEGORIES:Bossow-Haus
END:VEVENT
BEGIN:VEVENT
DTSTART;TZID=Europe/Berlin:20261201T160000
DTEND;TZID=Europe/Berlin:20261201T160000
DTSTAMP:20260420T211335
CREATED:20250213T085552Z
LAST-MODIFIED:20260401T063459Z
UID:1623-1796140800-1796140800@luehlerheim.de
SUMMARY:Adventsfenster im Bossow-Haus
DESCRIPTION:mit dem Männergesangverein Brünen
URL:https://luehlerheim.de/veranstaltung/adventsfenster-im-bossow-haus/
LOCATION:Evangelische Stiftung Lühlerheim\, Marienthaler Str. 10\, Schermbeck\, NW\, 46514\, Germany
CATEGORIES:Lühlerheim
END:VEVENT
BEGIN:VEVENT
DTSTART;TZID=Europe/Berlin:20261205T181500
DTEND;TZID=Europe/Berlin:20261205T181500
DTSTAMP:20260420T211335
CREATED:20250213T085635Z
LAST-MODIFIED:20260401T063510Z
UID:1625-1796494500-1796494500@luehlerheim.de
SUMMARY:Adventsgottesdienst mit dem Kinder-Kirchenchor Drevenack
DESCRIPTION:
URL:https://luehlerheim.de/veranstaltung/adventsgottesdienst-mit-dem-kinder-kirchenchor-drevenack/
LOCATION:Evangelische Stiftung Lühlerheim\, Marienthaler Str. 10\, Schermbeck\, NW\, 46514\, Germany
CATEGORIES:Lühlerheim
END:VEVENT
BEGIN:VEVENT
DTSTART;TZID=Europe/Berlin:20261205T181500
DTEND;TZID=Europe/Berlin:20261205T181500
DTSTAMP:20260420T211335
CREATED:20250213T120600Z
LAST-MODIFIED:20260401T061553Z
UID:1734-1796494500-1796494500@luehlerheim.de
SUMMARY:Gottesdienste in der Kapelle
DESCRIPTION:
URL:https://luehlerheim.de/veranstaltung/gottesdienste-in-der-kapelle-19/
LOCATION:Evangelische Stiftung Lühlerheim\, Marienthaler Str. 10\, Schermbeck\, NW\, 46514\, Germany
CATEGORIES:Kapelle
END:VEVENT
BEGIN:VEVENT
DTSTART;TZID=Europe/Berlin:20261208T100000
DTEND;TZID=Europe/Berlin:20261208T100000
DTSTAMP:20260420T211335
CREATED:20250213T125252Z
LAST-MODIFIED:20260401T055723Z
UID:1809-1796724000-1796724000@luehlerheim.de
SUMMARY:Andachten im Bossow-Haus
DESCRIPTION:
URL:https://luehlerheim.de/veranstaltung/andachten-im-bossow-haus-38/
LOCATION:Evangelische Stiftung Lühlerheim\, Marienthaler Str. 10\, Schermbeck\, NW\, 46514\, Germany
CATEGORIES:Bossow-Haus
END:VEVENT
BEGIN:VEVENT
DTSTART;TZID=Europe/Berlin:20261208T140000
DTEND;TZID=Europe/Berlin:20261208T160000
DTSTAMP:20260420T211335
CREATED:20250213T131401Z
LAST-MODIFIED:20260401T061949Z
UID:1858-1796738400-1796745600@luehlerheim.de
SUMMARY:Gesprächsrunde Freizeithaus
DESCRIPTION:
URL:https://luehlerheim.de/veranstaltung/gespraechsrunde-freizeithaus-19/
LOCATION:Evangelische Stiftung Lühlerheim\, Marienthaler Str. 10\, Schermbeck\, NW\, 46514\, Germany
CATEGORIES:Freizeithaus
END:VEVENT
END:VCALENDAR