BEGIN:VCALENDAR
VERSION:2.0
PRODID:-//Lühlerheim - ECPv6.15.18//NONSGML v1.0//EN
CALSCALE:GREGORIAN
METHOD:PUBLISH
X-WR-CALNAME:Lühlerheim
X-ORIGINAL-URL:https://luehlerheim.de
X-WR-CALDESC:Veranstaltungen für Lühlerheim
REFRESH-INTERVAL;VALUE=DURATION:PT1H
X-Robots-Tag:noindex
X-PUBLISHED-TTL:PT1H
BEGIN:VTIMEZONE
TZID:Europe/Berlin
BEGIN:DAYLIGHT
TZOFFSETFROM:+0100
TZOFFSETTO:+0200
TZNAME:CEST
DTSTART:20250330T010000
END:DAYLIGHT
BEGIN:STANDARD
TZOFFSETFROM:+0200
TZOFFSETTO:+0100
TZNAME:CET
DTSTART:20251026T010000
END:STANDARD
BEGIN:DAYLIGHT
TZOFFSETFROM:+0100
TZOFFSETTO:+0200
TZNAME:CEST
DTSTART:20260329T010000
END:DAYLIGHT
BEGIN:STANDARD
TZOFFSETFROM:+0200
TZOFFSETTO:+0100
TZNAME:CET
DTSTART:20261025T010000
END:STANDARD
BEGIN:DAYLIGHT
TZOFFSETFROM:+0100
TZOFFSETTO:+0200
TZNAME:CEST
DTSTART:20270328T010000
END:DAYLIGHT
BEGIN:STANDARD
TZOFFSETFROM:+0200
TZOFFSETTO:+0100
TZNAME:CET
DTSTART:20271031T010000
END:STANDARD
END:VTIMEZONE
BEGIN:VEVENT
DTSTART;TZID=Europe/Berlin:20260418T181500
DTEND;TZID=Europe/Berlin:20260418T181500
DTSTAMP:20260420T140728
CREATED:20250401T061026Z
LAST-MODIFIED:20260401T061142Z
UID:2217-1776536100-1776536100@luehlerheim.de
SUMMARY:Gottesdienste in der Kapelle
DESCRIPTION:
URL:https://luehlerheim.de/veranstaltung/gottesdienste-in-der-kapelle-4/
LOCATION:Evangelische Stiftung Lühlerheim\, Marienthaler Str. 10\, Schermbeck\, NW\, 46514\, Germany
CATEGORIES:Kapelle
END:VEVENT
BEGIN:VEVENT
DTSTART;TZID=Europe/Berlin:20260414T160000
DTEND;TZID=Europe/Berlin:20260414T173000
DTSTAMP:20260420T140728
CREATED:20250213T131657Z
LAST-MODIFIED:20260401T062150Z
UID:1866-1776182400-1776187800@luehlerheim.de
SUMMARY:Boule am Café Lühlerheide
DESCRIPTION:
URL:https://luehlerheim.de/veranstaltung/boule-am-cafe-luehlerheide-2/
LOCATION:NW
CATEGORIES:Café
END:VEVENT
BEGIN:VEVENT
DTSTART;TZID=Europe/Berlin:20260414T140000
DTEND;TZID=Europe/Berlin:20260414T160000
DTSTAMP:20260420T140728
CREATED:20250213T131032Z
LAST-MODIFIED:20260401T061804Z
UID:1825-1776175200-1776182400@luehlerheim.de
SUMMARY:Gesprächsrunde Freizeithaus
DESCRIPTION:
URL:https://luehlerheim.de/veranstaltung/gespraechsrunde-freizeithaus-3/
LOCATION:Evangelische Stiftung Lühlerheim\, Marienthaler Str. 10\, Schermbeck\, NW\, 46514\, Germany
CATEGORIES:Freizeithaus
END:VEVENT
BEGIN:VEVENT
DTSTART;TZID=Europe/Berlin:20260414T100000
DTEND;TZID=Europe/Berlin:20260414T100000
DTSTAMP:20260420T140728
CREATED:20250213T121543Z
LAST-MODIFIED:20260401T055122Z
UID:1748-1776160800-1776160800@luehlerheim.de
SUMMARY:Andachten im Bossow-Haus
DESCRIPTION:
URL:https://luehlerheim.de/veranstaltung/andachten-im-bossow-haus-6/
LOCATION:Evangelische Stiftung Lühlerheim\, Marienthaler Str. 10\, Schermbeck\, NW\, 46514\, Germany
CATEGORIES:Bossow-Haus
END:VEVENT
BEGIN:VEVENT
DTSTART;TZID=Europe/Berlin:20260407T160000
DTEND;TZID=Europe/Berlin:20260407T173000
DTSTAMP:20260420T140728
CREATED:20250213T131601Z
LAST-MODIFIED:20260401T062142Z
UID:1864-1775577600-1775583000@luehlerheim.de
SUMMARY:Boule am Café Lühlerheide
DESCRIPTION:
URL:https://luehlerheim.de/veranstaltung/boule-am-cafe-luehlerheide/
LOCATION:NW
CATEGORIES:Café
END:VEVENT
BEGIN:VEVENT
DTSTART;TZID=Europe/Berlin:20260407T100000
DTEND;TZID=Europe/Berlin:20260407T100000
DTSTAMP:20260420T140728
CREATED:20250213T121233Z
LAST-MODIFIED:20260401T055045Z
UID:1743-1775556000-1775556000@luehlerheim.de
SUMMARY:Andachten im Bossow-Haus
DESCRIPTION:
URL:https://luehlerheim.de/veranstaltung/andachten-im-bossow-haus-5/
LOCATION:Evangelische Stiftung Lühlerheim\, Marienthaler Str. 10\, Schermbeck\, NW\, 46514\, Germany
CATEGORIES:Bossow-Haus
END:VEVENT
BEGIN:VEVENT
DTSTART;TZID=Europe/Berlin:20260404T181500
DTEND;TZID=Europe/Berlin:20260404T181500
DTSTAMP:20260420T140728
CREATED:20250213T120048Z
LAST-MODIFIED:20260401T060934Z
UID:1701-1775326500-1775326500@luehlerheim.de
SUMMARY:Gottesdienste in der Kapelle
DESCRIPTION:
URL:https://luehlerheim.de/veranstaltung/gottesdienste-in-der-kapelle-3/
LOCATION:Evangelische Stiftung Lühlerheim\, Marienthaler Str. 10\, Schermbeck\, NW\, 46514\, Germany
CATEGORIES:Kapelle
END:VEVENT
BEGIN:VEVENT
DTSTART;TZID=Europe/Berlin:20260404T181500
DTEND;TZID=Europe/Berlin:20260404T181500
DTSTAMP:20260420T140728
CREATED:20250213T085103Z
LAST-MODIFIED:20260401T062828Z
UID:1605-1775326500-1775326500@luehlerheim.de
SUMMARY:Ökumenischer Ostergottesdienst in der Kapelle
DESCRIPTION:Anschließend kleines Osterfeuer und Imbiß vor der Kapelle.
URL:https://luehlerheim.de/veranstaltung/oekumenischer-ostergottesdienst-in-der-kapelle-anschliessend-kleines-osterfeuer-und-imbiss-vor-der-kapelle/
LOCATION:Evangelische Stiftung Lühlerheim\, Marienthaler Str. 10\, Schermbeck\, NW\, 46514\, Germany
CATEGORIES:Kapelle
END:VEVENT
BEGIN:VEVENT
DTSTART;TZID=Europe/Berlin:20260404T160000
DTEND;TZID=Europe/Berlin:20260404T160000
DTSTAMP:20260420T140728
CREATED:20250213T081624Z
LAST-MODIFIED:20260401T062821Z
UID:1603-1775318400-1775318400@luehlerheim.de
SUMMARY:Ökumenischer Ostergottesdienst im Bossow-Haus
DESCRIPTION:für Bewohner und Angehörige mit anschließendem Kaffeetrinken
URL:https://luehlerheim.de/veranstaltung/oekumenischer-ostergottesdienst-im-bossow-haus/
LOCATION:Evangelische Stiftung Lühlerheim\, Marienthaler Str. 10\, Schermbeck\, NW\, 46514\, Germany
CATEGORIES:Lühlerheim
END:VEVENT
BEGIN:VEVENT
DTSTART;TZID=Europe/Berlin:20260402T181500
DTEND;TZID=Europe/Berlin:20260402T181500
DTSTAMP:20260420T140728
CREATED:20240701T102258Z
LAST-MODIFIED:20260401T063658Z
UID:1135-1775153700-1775153700@luehlerheim.de
SUMMARY:Gottesdienst mit Abendmahl und Abendessen am Gründonnerstag
DESCRIPTION:
URL:https://luehlerheim.de/veranstaltung/gottesdienst-mit-abendmahl-und-abendessen-am-gruendonnerstag/
LOCATION:Evangelische Stiftung Lühlerheim\, Marienthaler Str. 10\, Schermbeck\, NW\, 46514\, Germany
CATEGORIES:Lühlerheim
END:VEVENT
BEGIN:VEVENT
DTSTART;TZID=Europe/Berlin:20260324T140000
DTEND;TZID=Europe/Berlin:20260324T160000
DTSTAMP:20260420T140728
CREATED:20250213T130843Z
LAST-MODIFIED:20260401T061756Z
UID:1824-1774360800-1774368000@luehlerheim.de
SUMMARY:Gesprächsrunde Freizeithaus
DESCRIPTION:
URL:https://luehlerheim.de/veranstaltung/gespraechsrunde-freizeithaus-2/
LOCATION:Evangelische Stiftung Lühlerheim\, Marienthaler Str. 10\, Schermbeck\, NW\, 46514\, Germany
CATEGORIES:Freizeithaus
END:VEVENT
BEGIN:VEVENT
DTSTART;TZID=Europe/Berlin:20260321T181500
DTEND;TZID=Europe/Berlin:20260321T181500
DTSTAMP:20260420T140728
CREATED:20250213T120039Z
LAST-MODIFIED:20260401T060924Z
UID:1700-1774116900-1774116900@luehlerheim.de
SUMMARY:Gottesdienste in der Kapelle
DESCRIPTION:
URL:https://luehlerheim.de/veranstaltung/gottesdienste-in-der-kapelle-2/
LOCATION:Evangelische Stiftung Lühlerheim\, Marienthaler Str. 10\, Schermbeck\, NW\, 46514\, Germany
CATEGORIES:Kapelle
END:VEVENT
BEGIN:VEVENT
DTSTART;TZID=Europe/Berlin:20260310T140000
DTEND;TZID=Europe/Berlin:20260310T160000
DTSTAMP:20260420T140728
CREATED:20250213T125404Z
LAST-MODIFIED:20260401T061747Z
UID:1822-1773151200-1773158400@luehlerheim.de
SUMMARY:Gesprächsrunde Freizeithaus
DESCRIPTION:
URL:https://luehlerheim.de/veranstaltung/gespraechsrunde-freizeithaus/
LOCATION:Evangelische Stiftung Lühlerheim\, Marienthaler Str. 10\, Schermbeck\, NW\, 46514\, Germany
CATEGORIES:Freizeithaus
END:VEVENT
BEGIN:VEVENT
DTSTART;TZID=Europe/Berlin:20260307T181500
DTEND;TZID=Europe/Berlin:20260307T181500
DTSTAMP:20260420T140728
CREATED:20250213T115903Z
LAST-MODIFIED:20260401T060916Z
UID:1698-1772907300-1772907300@luehlerheim.de
SUMMARY:Gottesdienste in der Kapelle
DESCRIPTION:
URL:https://luehlerheim.de/veranstaltung/gottesdienste-in-der-kapelle/
LOCATION:Evangelische Stiftung Lühlerheim\, Marienthaler Str. 10\, Schermbeck\, NW\, 46514\, Germany
CATEGORIES:Kapelle
END:VEVENT
END:VCALENDAR